BEGIN:VCALENDAR
VERSION:2.0
PRODID:-//wp-events-plugin.com//5.99912//EN
TZID:Europe/Berlin
X-WR-TIMEZONE:Europe/Berlin
BEGIN:VEVENT
UID:0-253@kupferzell.albverein.eu
DTSTART;TZID=Europe/Berlin:20260607T100000
DTEND;TZID=Europe/Berlin:20260607T140000
DTSTAMP:20251230T182117Z
URL:https://kupferzell.albverein.eu/events/familienerlebnistag-hammerschmi
 ede-groeningen-und-bachwanderung/
SUMMARY:Ausflug der Familien: Hammerschmiede Gröningen und Bachwanderung
DESCRIPTION:nähere Informationen folgen\n\n&nbsp\;\n\nLeitung: Christina H
 ansel und Team der Mütter
LOCATION:Parkplatz zur Hammerschmiede\, Bölgentaler Straße \, Satteldorf\
 , 74589\, Hohenlohe\, Deutschland
GEO:49.187906;10.054123
X-APPLE-STRUCTURED-LOCATION;VALUE=URI;X-ADDRESS=Bölgentaler Straße \, Sat
 teldorf\, 74589\, Hohenlohe\, Deutschland;X-APPLE-RADIUS=100;X-TITLE=Parkp
 latz zur Hammerschmiede:geo:49.187906,10.054123
END:VEVENT
BEGIN:VTIMEZONE
TZID:Europe/Berlin
X-LIC-LOCATION:Europe/Berlin
BEGIN:DAYLIGHT
DTSTART:20260329T030000
TZOFFSETFROM:+0100
TZOFFSETTO:+0200
TZNAME:CEST
END:DAYLIGHT
END:VTIMEZONE
END:VCALENDAR