BEGIN:VCALENDAR
VERSION:2.0
PRODID:-//wp-events-plugin.com//5.99912//EN
TZID:Europe/Berlin
X-WR-TIMEZONE:Europe/Berlin
BEGIN:VEVENT
UID:0-246@kupferzell.albverein.eu
DTSTART;TZID=Europe/Berlin:20260925T160000
DTEND;TZID=Europe/Berlin:20260927T150000
DTSTAMP:20251230T170121Z
URL:https://kupferzell.albverein.eu/events/familienfreizeit-in-spalt-von-r
 itter-und-burgfraeulein/
SUMMARY:Familienfreizeit in Spalt: Von Ritter und Burgfräulein
DESCRIPTION:An alle großen und kleinen Ritter und Burgfräulein - Kommt mi
 t zu unserer Familienfreizeit auf der Burg Wernfels in der Nähe des Bromb
 achsees. Erkundet die Burg und ihre tollen Freizeitangebote\, geht mit uns
  wandern und erfahrt mehr über das Leben im Mittelalter. Wir freuen uns a
 uf ein erlebnisreiches Wochenende!\n\nDie Freizeit ist geeignet für Famil
 ien mit größeren Kindern und Jugendlichen\, die schon weitere Strecken l
 aufen können.\n\nDie Mindestteilnehmeranzahl beträgt 8 Personen. Maximal
  20 Personen können teilnehmen.\n\nTeilnahmevoraussetzung: Trittsicherhei
 t und normale Grundkondition ist erforderlich.\n\nLeistungen:\n\n 	Burgral
 ley und Bastelangebot\n 	Tagestour ( ca. 8 km)  mit Besuch der Pflugsmüh
 le\n 	Besuch der Burg Abenberg mit kindgerechter Führung\n 	Kleine Rundto
 ur: "Von der Burg zur Stadt"\n 	Halbpension\n 	Unterbringung in Mehrbettzi
 mmern\n 	Reiserücktrittversicherung bei Krankheit ( nur für Leistungen d
 er DJH) und Reisehaftpflichtversicherung (für Gruppen)\n\n&nbsp\;\n\nPrei
 se: \n\nMitglieder: Kinder: 122€\; Erwachsene 127€\n\nNichtmitglieder:
  Kinder 137€\; Erwachsene 142€\n\nLeitung und Anmeldung: Christina Han
 sel\n\nAnmeldung und Rückfragen bitte unter: albverein-og-kupferzell@gmx.
 de\n\nIch sende dann ein Anmeldeformular für die verbindliche Anmeldung z
 u.\n\nDer Anmeldeschluss ist der 25.06.2026\n\nVeranstalter: Ortsgruppe Ku
 pferzell\n\nAdresse der Burg: CVJM Burg Wernfels\, Burgweg 7 - 9\n\n91174 
 Spalt\, Wernfels\, burg-wernfels.de\n\n&nbsp\;
LOCATION:CVJM Burg Wernfels\, Burgweg 7-9\, Spalt- Wernfels\, Deutschland\,
  91174\, Deutschland
GEO:49.198299;10.878207
X-APPLE-STRUCTURED-LOCATION;VALUE=URI;X-ADDRESS=Burgweg 7-9\, Spalt- Wernfe
 ls\, Deutschland\, 91174\, Deutschland;X-APPLE-RADIUS=100;X-TITLE=CVJM Bur
 g Wernfels:geo:49.198299,10.878207
END:VEVENT
BEGIN:VTIMEZONE
TZID:Europe/Berlin
X-LIC-LOCATION:Europe/Berlin
BEGIN:DAYLIGHT
DTSTART:20260329T030000
TZOFFSETFROM:+0100
TZOFFSETTO:+0200
TZNAME:CEST
END:DAYLIGHT
END:VTIMEZONE
END:VCALENDAR