BEGIN:VCALENDAR
VERSION:2.0
PRODID:-//wp-events-plugin.com//5.99912//EN
TZID:Europe/Berlin
X-WR-TIMEZONE:Europe/Berlin
BEGIN:VEVENT
UID:0-249@kupferzell.albverein.eu
DTSTART;TZID=Europe/Berlin:20261129T140000
DTEND;TZID=Europe/Berlin:20261129T160000
DTSTAMP:20251230T180144Z
URL:https://kupferzell.albverein.eu/events/familiengruppe-kerzen-ziehen/
SUMMARY:Familienveranstaltung: Kerzen ziehen
DESCRIPTION:Gemeinsam wollen wir heute im kleinen Kreis Kerzen ziehen. (beg
 renzte Teilnehmeranzahl)\n\nNähere Informationen folgen.\n\n&nbsp\;\n\nLe
 itung: Christina Hansel\n\nAnmeldung unter: albverein-og-kupferzell@gmx.de
 \n\n&nbsp\;
LOCATION:Altes Rathaus in Feßbach\, Am Rathaus 15\, Kupferzell\, 74635\, D
 eutschland
GEO:49.22924;9.704600000000028
X-APPLE-STRUCTURED-LOCATION;VALUE=URI;X-ADDRESS=Am Rathaus 15\, Kupferzell\
 , 74635\, Deutschland;X-APPLE-RADIUS=100;X-TITLE=Altes Rathaus in Feßbach
 :geo:49.22924,9.704600000000028
END:VEVENT
BEGIN:VTIMEZONE
TZID:Europe/Berlin
X-LIC-LOCATION:Europe/Berlin
BEGIN:STANDARD
DTSTART:20261025T020000
TZOFFSETFROM:+0200
TZOFFSETTO:+0100
TZNAME:CET
END:STANDARD
END:VTIMEZONE
END:VCALENDAR