BEGIN:VCALENDAR
VERSION:2.0
PRODID:-//wp-events-plugin.com//5.99912//EN
TZID:Europe/Berlin
X-WR-TIMEZONE:Europe/Berlin
BEGIN:VEVENT
UID:0-247@kupferzell.albverein.eu
DTSTART;TZID=Europe/Berlin:20261010T093000
DTEND;TZID=Europe/Berlin:20261010T130000
DTSTAMP:20251230T172806Z
URL:https://kupferzell.albverein.eu/events/familienveranstaltung-streuobst
 wiesenaktion/
SUMMARY:Familienveranstaltung: Streuobstwiesenaktion
DESCRIPTION:Gemeinsam wollen wir mit unserem langjährigen Wanderführer un
 d  Obst - und Gartenfachwirt Günter Wolf einen tollen Tag erleben. Komme
 n Sie mit ihren Kindern zur Apfelernte und zum Mostpressen unter fachkundi
 ger Anleitung.\n\nDie Veranstaltung ist kostenfrei.\n\nWer Apfelsaft kaufe
 n möchte bringt bitte einen Kanister mit. 1 Liter gepresster Apfelsaft ko
 stet 1€.\n\nmitbringen: wetterangepasste Kleidung\, Vesper\, Getränk\, 
 leere Literflaschen/ Kanister.\n\nLeitung: Günter Wolf\n\nAnmeldung bei C
 hristina Hansel bis zum 8.10.26 unter:\n\nalbverein-og-kupferzell@gmx.de\n
 \nTreffpunkt zur gemeinsamen Abfahrt: 9.30 Uhr am Bahnpark in Kupferzell
LOCATION:Bahnpark Kupferzell\, Bahnhofstraße\, Kupferzell\, 74635\, Deutsc
 hland
GEO:49.2255654;9.687617400000022
X-APPLE-STRUCTURED-LOCATION;VALUE=URI;X-ADDRESS=Bahnhofstraße\, Kupferzell
 \, 74635\, Deutschland;X-APPLE-RADIUS=100;X-TITLE=Bahnpark Kupferzell:geo:
 49.2255654,9.687617400000022
END:VEVENT
BEGIN:VTIMEZONE
TZID:Europe/Berlin
X-LIC-LOCATION:Europe/Berlin
BEGIN:DAYLIGHT
DTSTART:20260329T030000
TZOFFSETFROM:+0100
TZOFFSETTO:+0200
TZNAME:CEST
END:DAYLIGHT
END:VTIMEZONE
END:VCALENDAR