BEGIN:VCALENDAR
VERSION:2.0
PRODID:-//wp-events-plugin.com//5.99912//EN
TZID:Europe/Berlin
X-WR-TIMEZONE:Europe/Berlin
BEGIN:VEVENT
UID:0-227@kupferzell.albverein.eu
DTSTART;TZID=Europe/Berlin:20260610T180000
DTEND;TZID=Europe/Berlin:20260610T210000
DTSTAMP:20251230T122139Z
URL:https://kupferzell.albverein.eu/events/gausingstunde-hohenloher-gau/
SUMMARY:Gausingstunde Hohenloher Gau
DESCRIPTION:Wir freuen uns dieses Jahr Gastgeber der Gausingstunde zu sein\
 , die unter der Leitung von Manfred Goldbaum stattfindet.\n\nBitte melden 
 Sie sich bei Manfred Goldbaum an\, wenn Sie teilnehmen möchten.\n\nTel. 0
 7941/3 66 26\n\n&nbsp\;\n\n&nbsp\;
LOCATION:Altes Rathaus in Feßbach\, Am Rathaus 15\, Kupferzell\, 74635\, D
 eutschland
GEO:49.22924;9.704600000000028
X-APPLE-STRUCTURED-LOCATION;VALUE=URI;X-ADDRESS=Am Rathaus 15\, Kupferzell\
 , 74635\, Deutschland;X-APPLE-RADIUS=100;X-TITLE=Altes Rathaus in Feßbach
 :geo:49.22924,9.704600000000028
END:VEVENT
BEGIN:VTIMEZONE
TZID:Europe/Berlin
X-LIC-LOCATION:Europe/Berlin
BEGIN:DAYLIGHT
DTSTART:20260329T030000
TZOFFSETFROM:+0100
TZOFFSETTO:+0200
TZNAME:CEST
END:DAYLIGHT
END:VTIMEZONE
END:VCALENDAR