BEGIN:VCALENDAR
VERSION:2.0
PRODID:-//wp-events-plugin.com//5.99912//EN
TZID:Europe/Berlin
X-WR-TIMEZONE:Europe/Berlin
BEGIN:VEVENT
UID:0-232@kupferzell.albverein.eu
DTSTART;TZID=Europe/Berlin:20260628T140000
DTEND;TZID=Europe/Berlin:20260628T180000
DTSTAMP:20251230T133255Z
URL:https://kupferzell.albverein.eu/events/geheimnisvolles-rottal-und-das-
 backofenfest-des-sav-mainhardt-erleben/
SUMMARY:Geheimnisvolles Rottal und das Backofenfest des SAV Mainhardt erleb
 en
DESCRIPTION:nähere Informationen folgen\n\nWanderführer: Winfried Stelter
  und Christina Hansel
END:VEVENT
BEGIN:VTIMEZONE
TZID:Europe/Berlin
X-LIC-LOCATION:Europe/Berlin
BEGIN:DAYLIGHT
DTSTART:20260329T030000
TZOFFSETFROM:+0100
TZOFFSETTO:+0200
TZNAME:CEST
END:DAYLIGHT
END:VTIMEZONE
END:VCALENDAR