BEGIN:VCALENDAR
VERSION:2.0
PRODID:-//wp-events-plugin.com//5.99912//EN
TZID:Europe/Berlin
X-WR-TIMEZONE:Europe/Berlin
BEGIN:VEVENT
UID:0-238@kupferzell.albverein.eu
DTSTART;TZID=Europe/Berlin;VALUE=DATE:20261017
DTEND;TZID=Europe/Berlin;VALUE=DATE:20261019
DTSTAMP:20251230T145455Z
URL:https://kupferzell.albverein.eu/events/gemeinsam-unterwegs-feiern-wo-b
 aden-wuerttemberg-begann/
SUMMARY:Gemeinsam unterwegs- Feiern\, wo Baden - Württemberg begann
DESCRIPTION:gemeinsames Wanderwochenende mit den Albvereinlern und dem Schw
 arzwaldverein\; Es wird verschiedene Wanderangebote für unterschiedliche 
 Leistungsgruppen geben. Der Höhepunkt am Samstagnachmittag ist eine klein
 e Zeitreise mit Luitgard aus dem Mittelalter und Helga aus dem Jahr 1948\,
  die einen Einblick in die Dreiländerkonferenz nach dem Zweiten Weltkrieg
  geben können. Seien Sie gespannt!\n\nOrt: Rund um den Hohenneufen\n\nVer
 anstalter: Gesamtverein SAV Stuttgart\; nähere Informationen folgen.
END:VEVENT
BEGIN:VTIMEZONE
TZID:Europe/Berlin
X-LIC-LOCATION:Europe/Berlin
BEGIN:DAYLIGHT
DTSTART:20260329T030000
TZOFFSETFROM:+0100
TZOFFSETTO:+0200
TZNAME:CEST
END:DAYLIGHT
END:VTIMEZONE
END:VCALENDAR