BEGIN:VCALENDAR
VERSION:2.0
PRODID:-//wp-events-plugin.com//5.99912//EN
TZID:Europe/Berlin
X-WR-TIMEZONE:Europe/Berlin
BEGIN:VEVENT
UID:0-240@kupferzell.albverein.eu
DTSTART;TZID=Europe/Berlin:20261205T150000
DTEND;TZID=Europe/Berlin:20261205T180000
DTSTAMP:20251230T150302Z
URL:https://kupferzell.albverein.eu/events/gluehwein-punschwanderung/
SUMMARY:Glühwein/Punschwanderung
DESCRIPTION:Überraschungswanderung\; Wir wandern in unserem schönen Verei
 nsgebiet. Am Ende lassen wir unsere Wanderung bei Glühwein und Punsch aus
 klingen\, grillen ggf und hören eine tolle Geschichte.\n\nLeitung: Christ
 ina Hansel\n\nAnmeldung unter: albverein-og-kupferzell@gmx.de\n\nTreffpunk
 t und Strecklenlänge wird noch veröffentlicht.\n\n&nbsp\;
END:VEVENT
BEGIN:VTIMEZONE
TZID:Europe/Berlin
X-LIC-LOCATION:Europe/Berlin
BEGIN:STANDARD
DTSTART:20261025T020000
TZOFFSETFROM:+0200
TZOFFSETTO:+0100
TZNAME:CET
END:STANDARD
END:VTIMEZONE
END:VCALENDAR