BEGIN:VCALENDAR
VERSION:2.0
PRODID:-//wp-events-plugin.com//5.99912//EN
TZID:Europe/Berlin
X-WR-TIMEZONE:Europe/Berlin
BEGIN:VEVENT
UID:0-250@kupferzell.albverein.eu
DTSTART;TZID=Europe/Berlin:20261025T140000
DTEND;TZID=Europe/Berlin:20261025T170000
DTSTAMP:20251230T180315Z
URL:https://kupferzell.albverein.eu/events/kennt-ihr-schon-den-kuerbiskoen
 ig/
SUMMARY:Familienveranstaltung: Kennt ihr schon den Kürbiskönig?
DESCRIPTION:Kürbisse schnitzen\, wie es Euch gefällt: gruselige\, lachend
 e\, weinende Gesichter\, alles erlaubt! Gespannt lauschen wir der Geschich
 te vom Kürbiskönig und lassen uns die Kürbissuppe schmecken.\n\nFür Fa
 milien mit Kindern ab 4 bis ins Jugendalter.\n\nbitte mitbringen: scharfes
  Messer\, Schnitzwerkzeug zum Kürbisschnitzen\, Schneidebrett\, Getränke
 \n\nUnkostenbeitrag: Mitglieder 1€ Nichtmitglieder 3€ zusätzlich ca. 
 5 Euro pro Schnitzkürbis\n\nVeranstaltungsleitung: Christina Hansel\n\nAn
 meldung bis zum 23.10.26 unter albverein-og-kupferzell@gmx.de\n\nBitte bei
  der Anmeldung Anzahl der benötigten Kürbisse angeben.
LOCATION:Altes Rathaus in Feßbach\, Am Rathaus 15\, Kupferzell\, 74635\, D
 eutschland
GEO:49.22924;9.704600000000028
X-APPLE-STRUCTURED-LOCATION;VALUE=URI;X-ADDRESS=Am Rathaus 15\, Kupferzell\
 , 74635\, Deutschland;X-APPLE-RADIUS=100;X-TITLE=Altes Rathaus in Feßbach
 :geo:49.22924,9.704600000000028
END:VEVENT
BEGIN:VTIMEZONE
TZID:Europe/Berlin
X-LIC-LOCATION:Europe/Berlin
BEGIN:STANDARD
DTSTART:20261025T020000
TZOFFSETFROM:+0200
TZOFFSETTO:+0100
TZNAME:CET
END:STANDARD
END:VTIMEZONE
END:VCALENDAR