BEGIN:VCALENDAR
VERSION:2.0
PRODID:-//wp-events-plugin.com//5.99912//EN
TZID:Europe/Berlin
X-WR-TIMEZONE:Europe/Berlin
BEGIN:VEVENT
UID:0-228@kupferzell.albverein.eu
DTSTART;TZID=Europe/Berlin:20260621T100000
DTEND;TZID=Europe/Berlin:20260621T120000
DTSTAMP:20251230T123154Z
URL:https://kupferzell.albverein.eu/events/sternwanderung-in-braunsbach/
SUMMARY:Sternwanderung in Braunsbach
DESCRIPTION:Die geführten Wanderungen beginnen um 10.00 Uhr in den Ortscha
 ften Enslingen\, Orlach\, Jungholzhausen und Steinkirchen. Sie haben alle 
 unterschiedliche Längen von 2\,5 - 7\,5 km. Die Wanderungen führen alle 
 nach Braunsbach. Dort findet eine Bewirtung statt.\n\nNähere Informatione
 n und Anmeldung bei Brigitte Kappel (siehe Flyer)\n\nSternwanderung 2026
END:VEVENT
BEGIN:VTIMEZONE
TZID:Europe/Berlin
X-LIC-LOCATION:Europe/Berlin
BEGIN:DAYLIGHT
DTSTART:20260329T030000
TZOFFSETFROM:+0100
TZOFFSETTO:+0200
TZNAME:CEST
END:DAYLIGHT
END:VTIMEZONE
END:VCALENDAR