BEGIN:VCALENDAR
VERSION:2.0
PRODID:-//wp-events-plugin.com//5.99912//EN
TZID:Europe/Berlin
X-WR-TIMEZONE:Europe/Berlin
BEGIN:VEVENT
UID:0-233@kupferzell.albverein.eu
DTSTART;TZID=Europe/Berlin:20260711T093000
DTEND;TZID=Europe/Berlin:20260711T140000
DTSTAMP:20251230T142741Z
URL:https://kupferzell.albverein.eu/events/vom-wald-in-die-stadt/
SUMMARY:Vom Wald in die Stadt
DESCRIPTION:Erlebnistag: Vom Stadtwald Künzelsau nach Niedernhall. Gemeins
 am laufen wir bei warmen Temperaturen im Stadtwald und bewundern die Schö
 nheiten die es in diesem Gebiet zu entdecken gibt. Im Stadtwald lässt sic
 h neben der Natur so manches\, auch historisches entdecken. Unser Endziel 
 bei der kleineren Tour ist die Giebelheide  - Aber auch in Niedernhall gi
 bt es so einiges zu entdecken.....\n\nDie Rückfahrt erfolgt mit dem Bus.\
 n\nStreckenlänge: ca. 6km\n\nSchwierigkeitsgrad: leicht\n\nDer Treffpunkt
  ist um 9.30 Uhr zur gemeinsamen Abfahrt am Bahnpark in Kupferzell.\n\nDWV
  - Wanderführerin: Christina Hansel\n\nAnmeldung bitte bis zum 10.07.26 u
 nter: albverein-og-kupferzell@gmx.de\n\n----------------------------------
 ----------\n\nJe nach Interesse der Teilnehmer kann die Tour um 4 km berga
 bwärts erweitert werden. ( Das wären dann ca. 10 km)\n\nAuch eine Schlus
 seinkehr ist je nach Interesse der Teilnehmer möglich. Dadurch verlänger
 t sich aber die Endzeit des Erlebnistages.\n\n&nbsp\;
LOCATION:Bahnpark Kupferzell\, Bahnhofstraße\, Kupferzell\, 74635\, Deutsc
 hland
GEO:49.2255654;9.687617400000022
X-APPLE-STRUCTURED-LOCATION;VALUE=URI;X-ADDRESS=Bahnhofstraße\, Kupferzell
 \, 74635\, Deutschland;X-APPLE-RADIUS=100;X-TITLE=Bahnpark Kupferzell:geo:
 49.2255654,9.687617400000022
END:VEVENT
BEGIN:VTIMEZONE
TZID:Europe/Berlin
X-LIC-LOCATION:Europe/Berlin
BEGIN:DAYLIGHT
DTSTART:20260329T030000
TZOFFSETFROM:+0100
TZOFFSETTO:+0200
TZNAME:CEST
END:DAYLIGHT
END:VTIMEZONE
END:VCALENDAR