BEGIN:VCALENDAR
VERSION:2.0
PRODID:-//wp-events-plugin.com//5.99912//EN
TZID:Europe/Berlin
X-WR-TIMEZONE:Europe/Berlin
BEGIN:VEVENT
UID:0-226@kupferzell.albverein.eu
DTSTART;TZID=Europe/Berlin:20260502T133000
DTEND;TZID=Europe/Berlin:20260502T170000
DTSTAMP:20260103T163757Z
URL:https://kupferzell.albverein.eu/events/waldenburger-wald-und-seentour/
SUMMARY:Waldenburger Wald- und Seentour
DESCRIPTION:Wir wandern in moderatem Tempo im schönen Waldgebiet zum Seila
 cher Stausee.\nDiesen umrunden wir und gehen danach zurück zum Neumühlse
 e.\nDie reine Wanderzeit beträgt  2 Stunden\; 6 - 7 km.  Der Schwierig
 keitsgrad ist leicht.\n\nEine Verlängerung der Strecke über den Mühlber
 g ist je nach interessierten Teilnehmern bis zu 11 km möglich. Zurück ge
 ht es durch das Tal des Goldbaches zum Goldbachsee und dem Neumühlsee.\nH
 ier beträgt die reine Wanderzeit (ca. 3\,5 Stunden mit Pause) Dann wäre 
 der Schwierigkeitsgrad mittel.\n\nEine Schlusseinkehr ist geplant. Die Tei
 lnahme  daran ist freiwillig.\n\nAnmeldung bitte bis zum 1.05.26 bei Wand
 erführer Winfried Stelter Tel: 07944/8045\n\noder über e- mail: albverei
 n-og-kupferzell@gmx.de\n\nTreffpunkt: 1. Parkplatz rechts vom Landgasthof 
 am Neumühlsee.\n\n&nbsp\;
LOCATION:Parkplatz\, Neumühle 3\, Waldenburg\, Deutschland\, 74638\, Hohen
 lohekreis\, Deutschland
GEO:49.162392;9.64425
X-APPLE-STRUCTURED-LOCATION;VALUE=URI;X-ADDRESS=Neumühle 3\, Waldenburg\, 
 Deutschland\, 74638\, Hohenlohekreis\, Deutschland;X-APPLE-RADIUS=100;X-TI
 TLE=Parkplatz:geo:49.162392,9.64425
END:VEVENT
BEGIN:VTIMEZONE
TZID:Europe/Berlin
X-LIC-LOCATION:Europe/Berlin
BEGIN:DAYLIGHT
DTSTART:20260329T030000
TZOFFSETFROM:+0100
TZOFFSETTO:+0200
TZNAME:CEST
END:DAYLIGHT
END:VTIMEZONE
END:VCALENDAR