BEGIN:VCALENDAR
VERSION:2.0
PRODID:-//wp-events-plugin.com//5.99912//EN
TZID:Europe/Berlin
X-WR-TIMEZONE:Europe/Berlin
BEGIN:VEVENT
UID:0-237@kupferzell.albverein.eu
DTSTART;TZID=Europe/Berlin:20261014T180000
DTEND;TZID=Europe/Berlin:20261014T200000
DTSTAMP:20251230T155947Z
URL:https://kupferzell.albverein.eu/events/wanderplanbesprechung-der-erwac
 hsenen/
SUMMARY:Wanderplanbesprechung 2027 der Erwachsenen
DESCRIPTION:Gemeinsam wollen wir heute wieder ein tolles Programm für 2027
  auf die Beine stellen. Nichtmitglieder sind herzlich willkommen.  Wir si
 nd gespannt auf Eure Ideen...
LOCATION:Restaurant Milchhäusle\, Untere Vorstadt 1\, Kupferzell\, Deutsch
 land\, 74635\, Hohenlohe\, Deutschland
GEO:49.226891;9.688947
X-APPLE-STRUCTURED-LOCATION;VALUE=URI;X-ADDRESS=Untere Vorstadt 1\, Kupferz
 ell\, Deutschland\, 74635\, Hohenlohe\, Deutschland;X-APPLE-RADIUS=100;X-T
 ITLE=Restaurant Milchhäusle:geo:49.226891,9.688947
END:VEVENT
BEGIN:VTIMEZONE
TZID:Europe/Berlin
X-LIC-LOCATION:Europe/Berlin
BEGIN:DAYLIGHT
DTSTART:20260329T030000
TZOFFSETFROM:+0100
TZOFFSETTO:+0200
TZNAME:CEST
END:DAYLIGHT
END:VTIMEZONE
END:VCALENDAR