BEGIN:VCALENDAR
VERSION:2.0
PRODID:-//wp-events-plugin.com//5.99912//EN
TZID:Europe/Berlin
X-WR-TIMEZONE:Europe/Berlin
BEGIN:VEVENT
UID:0-234@kupferzell.albverein.eu
DTSTART;TZID=Europe/Berlin:20260906T133000
DTEND;TZID=Europe/Berlin:20260906T170000
DTSTAMP:20251230T143310Z
URL:https://kupferzell.albverein.eu/events/wanderung-in-den-waldenburger-b
 ergen-teil-3/
SUMMARY:Wanderung in den Waldenburger Bergen Teil 3
DESCRIPTION:Wanderführer: Winfried Stelter\n\nInformationen folgen noch...
END:VEVENT
BEGIN:VTIMEZONE
TZID:Europe/Berlin
X-LIC-LOCATION:Europe/Berlin
BEGIN:DAYLIGHT
DTSTART:20260329T030000
TZOFFSETFROM:+0100
TZOFFSETTO:+0200
TZNAME:CEST
END:DAYLIGHT
END:VTIMEZONE
END:VCALENDAR